BEGIN:VCALENDAR
VERSION:2.0
PRODID:-//Beyond Robotics - ECPv6.15.20//NONSGML v1.0//EN
CALSCALE:GREGORIAN
METHOD:PUBLISH
X-WR-CALNAME:Beyond Robotics
X-ORIGINAL-URL:https://beyondrobotics.org
X-WR-CALDESC:Events for Beyond Robotics
REFRESH-INTERVAL;VALUE=DURATION:PT1H
X-Robots-Tag:noindex
X-PUBLISHED-TTL:PT1H
BEGIN:VTIMEZONE
TZID:America/Los_Angeles
BEGIN:DAYLIGHT
TZOFFSETFROM:-0800
TZOFFSETTO:-0700
TZNAME:PDT
DTSTART:20220313T100000
END:DAYLIGHT
BEGIN:STANDARD
TZOFFSETFROM:-0700
TZOFFSETTO:-0800
TZNAME:PST
DTSTART:20221106T090000
END:STANDARD
BEGIN:DAYLIGHT
TZOFFSETFROM:-0800
TZOFFSETTO:-0700
TZNAME:PDT
DTSTART:20230312T100000
END:DAYLIGHT
BEGIN:STANDARD
TZOFFSETFROM:-0700
TZOFFSETTO:-0800
TZNAME:PST
DTSTART:20231105T090000
END:STANDARD
BEGIN:DAYLIGHT
TZOFFSETFROM:-0800
TZOFFSETTO:-0700
TZNAME:PDT
DTSTART:20240310T100000
END:DAYLIGHT
BEGIN:STANDARD
TZOFFSETFROM:-0700
TZOFFSETTO:-0800
TZNAME:PST
DTSTART:20241103T090000
END:STANDARD
END:VTIMEZONE
BEGIN:VEVENT
DTSTART;TZID=America/Los_Angeles:20230610T140000
DTEND;TZID=America/Los_Angeles:20230610T190000
DTSTAMP:20260423T144926
CREATED:20230607T080212Z
LAST-MODIFIED:20230609T015418Z
UID:2459-1686405600-1686423600@beyondrobotics.org
SUMMARY:The Love LIFE Celebration
DESCRIPTION:
URL:https://beyondrobotics.org/event/the-love-life-celebration/
LOCATION:925 South Shamrock Ave\, Monrovia\, CA 91016
END:VEVENT
BEGIN:VEVENT
DTSTART;TZID=America/Los_Angeles:20230607T130000
DTEND;TZID=America/Los_Angeles:20230607T153000
DTSTAMP:20260423T144926
CREATED:20230607T075325Z
LAST-MODIFIED:20230609T015436Z
UID:2452-1686142800-1686151800@beyondrobotics.org
SUMMARY:JPL Tour
DESCRIPTION:
URL:https://beyondrobotics.org/event/jpl-tour/
LOCATION:JPL
END:VEVENT
END:VCALENDAR