BEGIN:VCALENDAR
VERSION:2.0
PRODID:-//Beyond Robotics - ECPv6.15.20//NONSGML v1.0//EN
CALSCALE:GREGORIAN
METHOD:PUBLISH
X-ORIGINAL-URL:https://beyondrobotics.org
X-WR-CALDESC:Events for Beyond Robotics
REFRESH-INTERVAL;VALUE=DURATION:PT1H
X-Robots-Tag:noindex
X-PUBLISHED-TTL:PT1H
BEGIN:VTIMEZONE
TZID:America/Los_Angeles
BEGIN:DAYLIGHT
TZOFFSETFROM:-0800
TZOFFSETTO:-0700
TZNAME:PDT
DTSTART:20240310T100000
END:DAYLIGHT
BEGIN:STANDARD
TZOFFSETFROM:-0700
TZOFFSETTO:-0800
TZNAME:PST
DTSTART:20241103T090000
END:STANDARD
BEGIN:DAYLIGHT
TZOFFSETFROM:-0800
TZOFFSETTO:-0700
TZNAME:PDT
DTSTART:20250309T100000
END:DAYLIGHT
BEGIN:STANDARD
TZOFFSETFROM:-0700
TZOFFSETTO:-0800
TZNAME:PST
DTSTART:20251102T090000
END:STANDARD
BEGIN:DAYLIGHT
TZOFFSETFROM:-0800
TZOFFSETTO:-0700
TZNAME:PDT
DTSTART:20260308T100000
END:DAYLIGHT
BEGIN:STANDARD
TZOFFSETFROM:-0700
TZOFFSETTO:-0800
TZNAME:PST
DTSTART:20261101T090000
END:STANDARD
END:VTIMEZONE
BEGIN:VEVENT
DTSTART;TZID=America/Los_Angeles:20250202T080000
DTEND;TZID=America/Los_Angeles:20250202T170000
DTSTAMP:20260423T114521
CREATED:20240928T023256Z
LAST-MODIFIED:20250131T203423Z
UID:4297-1738483200-1738515600@beyondrobotics.org
SUMMARY:ILT
DESCRIPTION:
URL:https://beyondrobotics.org/event/itl/
LOCATION:ILT\, 175 E Nuevo Rd\, Perris\, CA 92571\, CA
CATEGORIES:Competition
END:VEVENT
END:VCALENDAR